BEGIN:VCALENDAR
VERSION:2.0
PRODID:-//LIFT//NONSGML kigkonsult.se iCalcreator 2.30.10//
CALSCALE:GREGORIAN
METHOD:PUBLISH
UID:cc9d8fad-9986-4bc0-b021-dd9a0c953308
X-WR-CALNAME:iCagenda
X-WR-CALDESC:Event Management Extension for Joomla!
X-WR-RELCALID:3E26604A-50F4-4449-8B3E-E4F4932D05B5
X-WR-TIMEZONE:Europe/Berlin
BEGIN:VTIMEZONE
TZID:Europe/Berlin
BEGIN:STANDARD
TZNAME:CET
DTSTART:20251026T030000
TZOFFSETFROM:+0200
TZOFFSETTO:+0100
RDATE:20261025T030000
END:STANDARD
BEGIN:DAYLIGHT
TZNAME:CEST
DTSTART:20250330T020000
TZOFFSETFROM:+0100
TZOFFSETTO:+0200
RDATE:20260329T020000
RDATE:20270328T020000
END:DAYLIGHT
END:VTIMEZONE
BEGIN:VEVENT
UID:85e38009-bfb2-48a4-9e08-f6f2b9194b3b
DTSTAMP:20260421T082331Z
CATEGORIES:Der Sachsendreier
CLASS:PUBLIC
DESCRIPTION;ALTREP="CID:<FFFF__=0ABBE548DFE235B58f9e8a93d@coffeebean.com>":
 Der Sachsendreier
DTSTART:20251122T183000Z
DTEND:20251122T183000Z
GEO:00;0
LOCATION:Festhalle Plauen
ORGANIZER:
SEQUENCE:1
SUMMARY:Plauen
TRANSP:OPAQUE
URL:https://lift-rockballaden.de/index.php/component/icagenda/11-plauen/202
 5-11-22-19-30
END:VEVENT
END:VCALENDAR
