BEGIN:VCALENDAR
VERSION:2.0
PRODID:-//LIFT//NONSGML kigkonsult.se iCalcreator 2.30.10//
CALSCALE:GREGORIAN
METHOD:PUBLISH
UID:f87736b9-28de-477a-819b-eaf27db1af82
X-WR-CALNAME:iCagenda
X-WR-CALDESC:Event Management Extension for Joomla!
X-WR-RELCALID:3E26604A-50F4-4449-8B3E-E4F4932D05B5
X-WR-TIMEZONE:Europe/Berlin
BEGIN:VTIMEZONE
TZID:Europe/Berlin
BEGIN:STANDARD
TZNAME:CET
DTSTART:20251026T030000
TZOFFSETFROM:+0200
TZOFFSETTO:+0100
RDATE:20261025T030000
RDATE:20271031T030000
END:STANDARD
BEGIN:DAYLIGHT
TZNAME:CEST
DTSTART:20260329T020000
TZOFFSETFROM:+0100
TZOFFSETTO:+0200
RDATE:20270328T020000
END:DAYLIGHT
END:VTIMEZONE
BEGIN:VEVENT
UID:97202e5a-a0e1-4752-9b68-5754b8fde03d
DTSTAMP:20260421T114251Z
CATEGORIES:LIFT
CLASS:PUBLIC
DESCRIPTION;ALTREP="CID:<FFFF__=0ABBE548DFE235B58f9e8a93d@coffeebean.com>":
 Festgelände am Boddenufer
DTSTART:20260724T180000Z
DTEND:20260724T180000Z
GEO:+54.630642;+13.229661
LOCATION:Dranske
ORGANIZER:
SEQUENCE:1
SUMMARY:Boddenparty Dranske
TRANSP:OPAQUE
URL:https://lift-rockballaden.de/index.php/component/icagenda/20-boddenpart
 y-dranske/2026-07-24-20-00
END:VEVENT
END:VCALENDAR
