BEGIN:VCALENDAR
VERSION:2.0
PRODID:-//LIFT//NONSGML kigkonsult.se iCalcreator 2.30.10//
CALSCALE:GREGORIAN
METHOD:PUBLISH
UID:662c16fc-c6d6-4c23-812f-06d692b8befe
X-WR-CALNAME:iCagenda
X-WR-CALDESC:Event Management Extension for Joomla!
X-WR-RELCALID:3E26604A-50F4-4449-8B3E-E4F4932D05B5
X-WR-TIMEZONE:Europe/Berlin
BEGIN:VTIMEZONE
TZID:Europe/Berlin
BEGIN:STANDARD
TZNAME:CET
DTSTART:20251026T030000
TZOFFSETFROM:+0200
TZOFFSETTO:+0100
RDATE:20261025T030000
RDATE:20271031T030000
END:STANDARD
BEGIN:DAYLIGHT
TZNAME:CEST
DTSTART:20260329T020000
TZOFFSETFROM:+0100
TZOFFSETTO:+0200
RDATE:20270328T020000
END:DAYLIGHT
END:VTIMEZONE
BEGIN:VEVENT
UID:5966dc39-2469-45b3-8101-c19b390f23f1
DTSTAMP:20260421T083719Z
CATEGORIES:LIFT
CLASS:PUBLIC
DESCRIPTION:
DTSTART:20260723T180000Z
DTEND:20260723T180000Z
GEO:00;0
LOCATION:Kulturkirche St Jakobi Stralsund
ORGANIZER:
SEQUENCE:1
SUMMARY:Stralsund
TRANSP:OPAQUE
URL:https://lift-rockballaden.de/index.php/component/icagenda/21-stralsund/
 2026-07-23-20-00
END:VEVENT
END:VCALENDAR
