BEGIN:VCALENDAR
VERSION:2.0
PRODID:-//LIFT//NONSGML kigkonsult.se iCalcreator 2.30.10//
CALSCALE:GREGORIAN
METHOD:PUBLISH
UID:ade78ebb-4bc8-4d44-97b6-5acb0a05222b
X-WR-CALNAME:iCagenda
X-WR-CALDESC:Event Management Extension for Joomla!
X-WR-RELCALID:3E26604A-50F4-4449-8B3E-E4F4932D05B5
X-WR-TIMEZONE:Europe/Berlin
BEGIN:VTIMEZONE
TZID:Europe/Berlin
BEGIN:STANDARD
TZNAME:CET
DTSTART:20241027T030000
TZOFFSETFROM:+0200
TZOFFSETTO:+0100
RDATE:20251026T030000
RDATE:20261025T030000
END:STANDARD
BEGIN:DAYLIGHT
TZNAME:CEST
DTSTART:20250330T020000
TZOFFSETFROM:+0100
TZOFFSETTO:+0200
RDATE:20260329T020000
RDATE:20270328T020000
END:DAYLIGHT
END:VTIMEZONE
BEGIN:VEVENT
UID:96bc582f-5055-48f8-8cc0-9dbdbd157bce
DTSTAMP:20260421T095507Z
CATEGORIES:Der Sachsendreier
CLASS:PUBLIC
DESCRIPTION;ALTREP="CID:<FFFF__=0ABBE548DFE235B58f9e8a93d@coffeebean.com>":
 Der Sachsendreier
DTSTART:20251003T170000Z
DTEND:20251003T170000Z
GEO:00;0
LOCATION:Steintor Variete Halle / S
ORGANIZER:
SEQUENCE:1
SUMMARY:Halle/S
TRANSP:OPAQUE
URL:https://lift-rockballaden.de/index.php/component/icagenda/9-halle-s/202
 5-10-03-19-00
END:VEVENT
END:VCALENDAR
